Workbook

Sheet 1
D2: "СОГЛАСОВАНО" ДИРЕКТОР МБОУ _____________ Г.САЛАВАТА __________________ "_______"____________2025 г. | AC2: "УТВЕРЖДАЮ" ДИРЕКТОР МУП "ОБЩЕПИТ" Г.САЛАВАТА _____________МАКОВ В.В. "_______"____________2025 г.
K6: ОСНОВНОЕ ДЕСЯТИДНЕВНОЕ МЕНЮ ЗАВТРАКОВ И ОБЕДОВ С УЧЕТОМ РАСЧЕТА СОДЕРЖАНИЯ ОСНОВНЫХ ПИЩЕВЫХ ВЕЩЕСТВ, ЭНЕРГЕТИЧЕСКОЙ ЦЕННОСТИ ПРОДУКЦИИ, ВИТАМИНОВ И МИНЕРАЛЬНЫХ ЭЛЕМЕНТОВ.
V7: Введено в работу "_____ " _____________ 2025 г.
C8: Сезон: | H8: осень 2025
C10: Категория: | H10: Учащиеся 12 лет и старше
E14: 1-ая неделя/Понедельник
B16: № рец. | F16: Приём пищи, наименование блюда | P16: ЦЕНА | Q16: Масса порции | R16: Пищевые вещества (г) | U16: ККАЛ | V16: Витамины (мг) | AA16: Минеральные вещества (мг)
R17: Б | S17: Ж | T17: У | V17: B1 | W17: С | Z17: Е | AA17: Ca | AC17: Mg | AD17: Fe
B18: 1 | F18: 2 | Q18: 3 | R18: 4 | S18: 5 | T18: 6 | U18: 7 | V18: 8 | W18: 9 | Z18: 11 | AA18: 10 | AC18: 11 | AD18: 12
F19: Завтрак
B20: 2.139.2 Ш | F20: Курица тушеная в соусе | P20: 43 | Q20: 100 | R20: 8.3 | S20: 7 | T20: 16.6 | U20: 162 | V20: 0.01 | W20: 0.33 | AA20: 6.9 | AC20: 7 | AD20: 0.6
B21: 4.8 | F21: Макаронные изделия отварные | P21: 18 | Q21: 180 | R21: 6.6 | S21: 5.04 | T21: 39.3 | U21: 229.2 | V21: 0.07 | W21: 0 | AA21: 21.9 | AC21: 18.36 | AD21: 1.1
B22: 1.1 | F22: Кондитерское изделие | P22: 14 | Q22: 30 | R22: 1.64 | S22: 2.24 | T22: 3.6 | U22: 125 | V22: 0.16 | W22: 2.16 | X22: 24 | Y22: 32.5 | Z22: 0.78 | AA22: 24 | AC22: 32.5 | AD22: 0.78
B23: 7.5 | F23: Чай с сахаром | P23: 8 | Q23: 200 | R23: 0.1 | S23: 0.02 | T23: 9.1 | U23: 35 | V23: 0 | W23: 0 | AA23: 0.26 | AC23: 0 | AD23: 0
B24: 6.23 | F24: Хлеб пшеничный с витаминно-минеральной смесью « Валетек-8» | P24: 3.36 | Q24: 40 | R24: 3.36 | S24: 0.36 | T24: 28 | U24: 100 | V24: 0.08 | W24: 0.08 | AA24: 15 | AC24: 15.28 | AD24: 1.28
F25: Всего в завтрак | P25: =P20+P21+P22+P23+P24 -> 86.36 | Q25: =SUM(Q20:Q24) -> 550 | R25: =SUM(R20:R24) -> 20 | S25: =SUM(S20:S24) -> 14.66 | T25: =SUM(T20:T24) -> 96.6 | U25: =SUM(U20:U24) -> 651.2 | V25: =SUM(V20:V24) -> 0.32 | W25: =SUM(W20:W24) -> 2.57 | X25: =SUM(X20:X24) -> 24 | Z25: =SUM(Z20:Z24) -> 0.78 | AA25: =SUM(AA20:AA24) -> 68.06 | AC25: =SUM(AC20:AC24) -> 73.14 | AD25: =SUM(AD20:AD24) -> 3.76
F26: Обед
B27: 1.66.1Ш | F27: Суп-лапша домашняя с картофелем на бульоне из птицы | P27: 16 | Q27: 250 | R27: 20 | S27: 12.5 | T27: 15 | U27: 250 | V27: 0.02 | W27: 2.25 | AA27: 27.8 | AC27: 34 | AD27: 4
B28: 3.3 | F28: Котлеты мясные с соусом | P28: 42 | Q28: 100 | R28: 10.9 | S28: 9.6 | T28: 10.24 | U28: 173 | V28: 0.08 | W28: 0.03 | AA28: 27.8 | AC28: 22.1 | AD28: 1.14
B29: 4.7 | F29: Каша гречневая рассыпчатая | P29: 18 | Q29: 180 | R29: 0.1 | S29: 0.02 | T29: 9.1 | U29: 35 | V29: 0 | W29: 0 | X29: 0 | AA29: 0.26 | AC29: 0 | AD29: 0
B30: 7.9 | F30: Сок фруктовый | P30: 15 | Q30: 200 | R30: 0 | S30: 0 | T30: 22.4 | U30: 89.6 | V30: 0.06 | W30: 9.6 | AA30: 1.6 | AC30: 0 | AD30: 0.48
B31: 6.23 | F31: Хлеб пшеничный с витаминно-минеральной смесью « Валетек-8» | P31: 3.36 | Q31: 40 | R31: 3.36 | S31: 0.36 | T31: 28 | U31: 100 | V31: 0.08 | W31: 0.08 | AA31: 15 | AC31: 15.28 | AD31: 1.28
B32: 6.24 | F32: Хлеб ржаной | P32: 3.74 | Q32: 40 | R32: 3.25 | S32: 0.7 | T32: 29.33 | U32: 114.7 | V32: 0.03 | W32: 1.33 | AA32: 13.86 | AC32: 15.4 | AD32: 2.8
F33: Всего в обед | P33: =SUM(P27:P32) -> 98.1 | Q33: =SUM(Q27:Q32) -> 810 | R33: =SUM(R27:R32) -> 37.61 | S33: =SUM(S27:S32) -> 23.18 | T33: =SUM(T27:T32) -> 114.07 | U33: =SUM(U27:U32) -> 762.3 | V33: =SUM(V27:V32) -> 0.27 | W33: =SUM(W27:W32) -> 13.29 | X33: =SUM(X27:X32) -> 0 | Z33: =SUM(Z27:Z32) -> 0 | AA33: =SUM(AA27:AA32) -> 86.32 | AC33: =SUM(AC27:AC32) -> 86.78 | AD33: =SUM(AD27:AD32) -> 9.7
F34: Всего в день | R34: =R25+R33 -> 57.61 | S34: =S25+S33 -> 37.84 | T34: =T25+T33 -> 210.67 | U34: =U25+U33 -> 1413.5 | V34: =V25+V33 -> 0.59 | W34: =W25+W33 -> 15.86 | AA34: =AA25+AA33 -> 154.38 | AC34: =AC25+AC33 -> 159.92 | AD34: =AD25+AD33 -> 13.46

Sheet 2
C2: 1-ая неделя/Вторник | D2: г
B4: № рец. | D4: Приём пищи, наименование блюда | I4: ЦЕНА | J4: Масса порции | K4: Пищевые вещества (г) | N4: ККАЛ | O4: Витамины (мг) | Q4: Минеральные вещества (мг)
K5: Б | L5: Ж | M5: У | O5: B1 | P5: С | Q5: Ca | R5: Mg | S5: Fe
B6: 1 | D6: 2 | J6: 3 | K6: 4 | L6: 5 | M6: 6 | N6: 7 | O6: 8 | P6: 9 | Q6: 10 | R6: 11 | S6: 12
D7: Завтрак
B8: 9.21.1ш | D8: Каша молочная манная жидкая | I8: 39 | J8: 210 | K8: 5.6 | L8: 7.9 | M8: 24.6 | N8: 189 | O8: 0.1 | P8: 0.91 | Q8: 225 | R8: 28.5 | S8: 0.48
B9: 7.5.1ш | D9: Сыр (порциями) | I9: 18 | J9: 10 | K9: 2.7 | L9: 2.72 | M9: 0 | N9: 36 | O9: 0.04 | P9: 0.4 | Q9: 104 | R9: 0 | S9: 0
B10: 6.11.2ш | D10: Булочка "Домашняя" | I10: 21 | J10: 75 | K10: 5.35 | L10: 8.57 | M10: 40.7 | N10: 263 | O10: 0.07 | P10: 0 | Q10: 11.39 | R10: 7.15 | S10: 0.61
B11: 7.7 | D11: Чай с сахаром и лимоном | I11: 4 | J11: 200 | K11: 0.1 | L11: 0 | M11: 9.3 | N11: 37 | O11: 0 | P11: 1.12 | Q11: 2.73 | R11: 0.73 | S11: 0.06
B12: 6.23 | D12: Хлеб пшеничный с витаминно-минеральной смесью « Валетек-8» | I12: 4.36 | J12: 55 | K12: 4.62 | L12: 0.49 | M12: 38.5 | N12: 137.5 | O12: 0.11 | P12: 1.1 | Q12: 20.68 | R12: 21 | S12: 1.76
D13: Всего в завтрак | I13: =SUM(I8:I12) -> 86.36 | J13: =SUM(J8:J12) -> 550 | K13: =SUM(K8:K12) -> 18.37 | L13: =SUM(L8:L12) -> 19.68 | M13: =SUM(M8:M12) -> 113.1 | N13: =SUM(N8:N12) -> 662.5 | O13: =SUM(O8:O12) -> 0.32 | P13: =SUM(P8:P12) -> 3.53 | ... S13: =SUM(S8:S12) -> 2.91
D14: Обед
B15: 1.69.1Ш | D15: Борщ из свежей капусты с картофелем на бульоне из птицы | I15: 24 | J15: 255 | K15: 17.6 | L15: 11.3 | M15: 17.6 | N15: 248 | O15: 0.11 | P15: 31.6 | Q15: 58.3 | R15: 50.6 | S15: 3.92
B16: 2.179.1С | D16: Котлеты из рыбы "Аппетитные" с соусом | I16: 36 | J16: 100 | K16: 12.1 | L16: 8.4 | M16: 10.2 | N16: 172.1 | O16: 0.2 | P16: 2.86 | Q16: 29.1 | R16: 18.21 | S16: 0.65
B17: 4.11 | D17: Каша рисовая рассыпчатая | I17: 23 | J17: 180 | K17: 4.32 | L17: 4.8 | M17: 44 | N17: 240 | O17: 0.03 | P17: 0 | Q17: 25.5 | R17: 11.5 | S17: 0.5
B18: 7.13 | D18: Компот из свежих яблок | I18: 8 | J18: 200 | K18: 0.2 | L18: 0.1 | M18: 16 | N18: 67 | O18: 0.01 | P18: 1.6 | Q18: 6.03 | R18: 3.13 | S18: 0.8
B19: 6.23 | D19: Хлеб пшеничный с витаминно-минеральной смесью « Валетек-8» | I19: 3.36 | J19: 40 | K19: 3.36 | L19: 0.36 | M19: 28 | N19: 100 | O19: 0.08 | P19: 0.08 | Q19: 15 | R19: 15.28 | S19: 1.28
B20: 6.24 | D20: Хлеб ржаной | I20: 3.74 | J20: 40 | K20: 3.25 | L20: 0.7 | M20: 29.33 | N20: 114.7 | O20: 0.03 | P20: 1.33 | Q20: 13.86 | R20: 15.4 | S20: 2.8
D21: Всего в обед | I21: =SUM(I15:I20) -> 98.1 | J21: =SUM(J15:J20) -> 815 | K21: =SUM(K15:K20) -> 40.83 | L21: =SUM(L15:L20) -> 25.66 | M21: =SUM(M15:M20) -> 145.13 | N21: =SUM(N15:N20) -> 941.8 | O21: =SUM(O15:O20) -> 0.46 | P21: =SUM(P15:P20) -> 37.47 | ... R21: =SUM(R15:R20) -> 114.12 | S21: =SUM(S15:T20) -> 9.95
D22: Всего в день | K22: =K13+K21 -> 59.2 | L22: =L13+L21 -> 45.34 | M22: =M13+M21 -> 258.23 | N22: =N13+N21 -> 1604.3 | O22: =O13+O21 -> 0.78 | P22: =P13+P21 -> 41 | Q22: =Q13+Q21 -> 511.59 | R22: =R13+R21 -> 171.5 | S22: =S13+S21 -> 12.86

Sheet 3
C2: 1-ая неделя/Среда | D2: г
B4: № рец. | D4: Приём пищи, наименование блюда | I4: ЦЕНА | J4: Масса порции | K4: Пищевые вещества (г) | N4: ККАЛ | O4: Витамины (мг) | Q4: Минеральные вещества (мг)
K5: Б | L5: Ж | M5: У | O5: B1 | P5: С | Q5: Ca | R5: Mg | S5: Fe
B6: 1 | D6: 2 | J6: 3 | K6: 4 | L6: 5 | M6: 6 | N6: 7 | O6: 8 | P6: 9 | Q6: 10 | R6: 11 | S6: 12
D7: Завтрак
B8: 9.22.2 ш | D8: Каша пшенная молочная жидкая | I8: 37 | J8: 210 | K8: 6.6 | L8: 8.8 | M8: 33.3 | N8: 240 | O8: 0.18 | P8: 0.16 | Q8: 126 | R8: 44 | S8: 1.15
B9: 9.10.1ш | D9: Омлет натуральный | I9: 35 | J9: 93 | K9: 8.8 | L9: 13.6 | M9: 1.6 | N9: 163.5 | O9: 0.037 | P9: 0.12 | Q9: 60 | R9: 10 | S9: 1.5
B10: 7.11 | D10: Чай с молоком и сахаром | I10: 10 | J10: 200 | K10: 1 | L10: 2 | M10: 12 | N10: 70 | O10: 0.02 | P10: 0.65 | Q10: 60.3 | R10: 7 | S10: 0.06
B11: 6.23 | D11: Хлеб пшеничный с витаминно-минеральной смесью « Валетек-8» | I11: 4.36 | J11: 50 | K11: 4.2 | L11: 0.45 | M11: 35 | N11: 125 | O11: 0.1 | P11: 1 | Q11: 18.8 | R11: 19.1 | S11: 1.6
D12: Всего в завтрак | I12: =SUM(I8:I11) -> 86.36 | J12: =SUM(J8:J11) -> 553 | K12: =SUM(K8:K11) -> 20.6 | L12: =SUM(L8:L11) -> 24.85 | M12: =SUM(M8:M11) -> 81.9 | N12: =SUM(N8:N11) -> 598.5 | O12: =SUM(O8:O11) -> 0.337 | P12: =SUM(P8:P11) -> 1.93 | ... S12: =SUM(S8:S11) -> 4.31
D13: Обед
B14: 2.6 | D14: Суп картофельный с бобовыми с гренками | I14: 20 | J14: 265 | K14: 18.8 | L14: 10 | M14: 20 | N14: 246 | O14: 0.27 | P14: 12 | Q14: 44.2 | R14: 53.8 | S14: 4
B15: ттк №23 | D15: Котлеты рубленные из птицы с соусом | I15: 39 | J15: 100 | K15: 13.3 | L15: 19.9 | M15: 11.2 | N15: 250 | O15: 0.16 | P15: 0.26 | Q15: 17.4 | R15: 18 | S15: 1.4
B16: 4.9 | D16: Пюре картофельное | I16: 26 | J16: 180 | K16: 3.72 | L16: 6 | M16: 24 | N16: 165.6 | O16: 0.11 | P16: 12.44 | Q16: 42.7 | R16: 34 | S16: 1.23
B17: 7.5 | D17: Чай с сахаром | I17: 6 | J17: 200 | K17: 0.1 | L17: 0.02 | M17: 9.1 | N17: 35 | O17: 0 | P17: 0 | Q17: 0.26 | R17: 0 | S17: 0
B18: 6.23 | D18: Хлеб пшеничный с витаминно-минеральной смесью « Валетек-8» | I18: 3.36 | J18: 40 | K18: 3.36 | L18: 0.36 | M18: 28 | N18: 100 | O18: 0.08 | P18: 0.08 | Q18: 15 | R18: 15.28 | S18: 1.28
B19: 6.24 | D19: Хлеб ржаной | I19: 3.74 | J19: 40 | K19: 3.25 | L19: 0.7 | M19: 29.33 | N19: 114.7 | O19: 0.03 | P19: 1.33 | Q19: 13.86 | R19: 15.4 | S19: 2.8
D20: Всего в обед | I20: 98.1 | J20: =SUM(J14:J19) -> 825 | K20: =SUM(K14:K19) -> 42.53 | L20: =SUM(L14:L19) -> 36.98 | M20: =SUM(M14:M19) -> 121.63 | N20: =SUM(N14:N19) -> 911.3 | O20: =SUM(O14:O19) -> 0.65 | P20: =SUM(P14:P19) -> 26.11 | Q20: =SUM(Q14:Q19) -> 133.42 | ... S20: =SUM(S14:S19) -> 10.71
D21: Всего в день | K21: =K12+K20 -> 63.13 | L21: =L12+L20 -> 61.83 | M21: =M12+M20 -> 203.53 | N21: =N12+N20 -> 1509.8 | O21: =O12+O20 -> 0.987 | P21: =P12+P20 -> 28.04 | Q21: =Q12+Q20 -> 398.52 | R21: =R12+R20 -> 216.58 | S21: =S12+S20 -> 15.02

Sheet 4
C2: 1-ая неделя/Четверг | D2: г
B4: № рец. | D4: Приём пищи, наименование блюда | I4: ЦЕНА | J4: Масса порции | K4: Пищевые вещества (г) | N4: ККАЛ | O4: Витамины (мг) | Q4: Минеральные вещества (мг)
K5: Б | L5: Ж | M5: У | O5: B1 | P5: С | Q5: Ca | R5: Mg | S5: Fe
B6: 1 | D6: 2 | J6: 3 | K6: 4 | L6: 5 | M6: 6 | N6: 7 | O6: 8 | P6: 9 | Q6: 10 | R6: 11 | S6: 12
D7: Завтрак
B8: 5.16 | D8: Каша молочная вязкая овсяная "Геркулес" | I8: 43 | J8: 210 | K8: 8 | L8: 10 | M8: 35 | N8: 264 | O8: 0.13 | P8: 0.44 | Q8: 121 | R8: 44.5 | S8: 1.1
B9: 1.27 | D9: Фрукты свежие | I9: 28 | J9: 130 | K9: 0.52 | L9: 0.52 | M9: 12.74 | N9: 61.4 | O9: 0.045 | P9: 9.17 | Q9: 17.25 | R9: 38.51 | S9: 1.6
B10: 7.8 | D10: Кофейный напиток на молоке | I10: 12 | J10: 200 | K10: 3.2 | L10: 2.8 | M10: 18.5 | N10: 109 | O10: 0.03 | P10: 0.52 | Q10: 48.8 | R10: 24 | S10: 1.1
B11: 6.23 | D11: Хлеб пшеничный с витаминно-минеральной смесью « Валетек-8» | I11: 3.36 | J11: 40 | K11: 3.33 | L11: 0.36 | M11: 28 | N11: 100 | O11: 0.08 | P11: 1.06 | Q11: 15.06 | R11: 15.33 | S11: 1.33
D12: Всего в завтрак | I12: =SUM(I8:I11) -> 86.36 | J12: =SUM(J8:J11) -> 580 | K12: =SUM(K8:K11) -> 15.05 | L12: =SUM(L8:L11) -> 13.68 | M12: =SUM(M8:M11) -> 94.24 | N12: =SUM(N8:N11) -> 534.4 | O12: =SUM(O8:O11) -> 0.285 | P12: =SUM(P8:P11) -> 11.19 | ... S12: =SUM(S8:S11) -> 5.13
D13: Обед
B14: 1.2.1 Ш | D14: Щи из свежей капусты с картофелем | I14: 22 | J14: 255 | K14: 10.2 | L14: 8 | M14: 8.75 | N14: 151 | O14: 0.05 | P14: 11.87 | Q14: 32.5 | R14: 19 | S14: 0.68
B15: 3.8 | D15: Тефтели из говядины с рисом, с соусом | I15: 41 | J15: 100 | K15: 7.6 | L15: 10.83 | M15: 8.8 | N15: 164.2 | O15: 0.03 | P15: 0.38 | Q15: 20.2 | R15: 25.1 | S15: 0.63
B16: 4.8 | D16: Макаронные изделия отварные | I16: 18 | J16: 180 | K16: 6.6 | L16: 5.04 | M16: 39.3 | N16: 229.2 | O16: 0.07 | P16: 0 | Q16: 21.9 | R16: 18.36 | S16: 1 | T16: =SUM(J16:S16) -> 501.47
B17: 3.1.1ш | D17: Чай "Витаминизированный" | I17: 10 | J17: 200 | K17: 0.5 | L17: 0.2 | M17: 10.2 | N17: 83 | O17: 0.01 | P17: 60 | Q17: 11.09 | R17: 2.96 | S17: 0.57
B18: 6.23 | D18: Хлеб пшеничный с витаминно-минеральной смесью « Валетек-8» | I18: 3.36 | J18: 40 | K18: 3.36 | L18: 0.36 | M18: 28 | N18: 100 | O18: 0.08 | P18: 0.08 | Q18: 15 | R18: 15.28 | S18: 1.28 | T18: =SUM(J18:S18) -> 203.44
B19: 6.24 | D19: Хлеб ржаной | I19: 3.74 | J19: 40 | K19: 3.25 | L19: 0.7 | M19: 29.33 | N19: 114.7 | O19: 0.03 | P19: 1.33 | Q19: 13.86 | R19: 15.4 | S19: 2.8 | T19: =SUM(J19:S19) -> 221.4
D20: Всего в обед | I20: =SUM(I14:I19) -> 98.1 | J20: =SUM(J14:J19) -> 815 | K20: =SUM(K14:K19) -> 31.51 | L20: =SUM(L14:L19) -> 25.13 | M20: =SUM(M14:M19) -> 124.38 | N20: =SUM(N14:N19) -> 842.1 | O20: =SUM(O14:O19) -> 0.27 | P20: =SUM(P14:P19) -> 73.66 | ... S20: =SUM(S14:S19) -> 6.96
D21: Всего в день | K21: =K12+K20 -> 46.56 | L21: =L12+L20 -> 38.81 | M21: =M12+M20 -> 218.62 | N21: =N12+N20 -> 1376.5 | O21: =O12+O20 -> 0.555 | P21: =P12+P20 -> 84.85 | Q21: =Q12+Q20 -> 316.66 | R21: =R12+R20 -> 218.44 | S21: =S12+S20 -> 12.09

Sheet 5
C2: 1-ая неделя/Пятница | D2: г
B4: № рец. | D4: Приём пищи, наименование блюда | I4: ЦЕНА | J4: Масса порции | K4: Пищевые вещества (г) | N4: ККАЛ | O4: Витамины (мг) | Q4: Минеральные вещества (мг)
K5: Б | L5: Ж | M5: У | O5: B1 | P5: С | Q5: Ca | R5: Mg | S5: Fe
B6: 1 | D6: 2 | J6: 3 | K6: 4 | L6: 5 | M6: 6 | N6: 7 | O6: 8 | P6: 9 | Q6: 10 | R6: 11 | S6: 12
D7: Завтрак
B8: 4.11 | D8: Каша рисовая рассыпчатая | I8: 21 | J8: 180 | K8: 4.32 | L8: 4.8 | M8: 44 | N8: 240 | O8: 0.03 | P8: 0 | Q8: 25.5 | R8: 11.5 | S8: 0.5
B9: 3.12 | D9: Фрикадельки мясные с соусом | I9: 42 | J9: 100 | K9: 9.33 | L9: 8.7 | M9: 6.88 | N9: 135 | O9: 0.033 | P9: 0.017 | Q9: 19.8 | R9: 17.4 | S9: 0.76
B10: 1.1 | D10: Кондитерское изделие | I10: 14 | J10: 30 | K10: 1.64 | L10: 2.24 | M10: 3.6 | N10: 125 | O10: 0.16 | P10: 2.16 | Q10: 24 | R10: 32.5 | S10: 0.78 | T10: =SUM(S10) -> 0.78
B11: 7.5 | D11: Чай с сахаром | I11: 6 | J11: 200 | K11: 0.1 | L11: 0.02 | M11: 9.1 | N11: 35 | O11: 0 | P11: 0 | Q11: 0.26 | R11: 0 | S11: 0
B12: 6.23 | D12: Хлеб пшеничный с витаминно-минеральной смесью « Валетек-8» | I12: 3.36 | J12: 40 | K12: 3.36 | L12: 0.36 | M12: 28 | N12: 100 | O12: 0.08 | P12: 0.08 | Q12: 15 | R12: 15.28 | S12: 1.28
D13: Всего в | E13: Завтрак | I13: =SUM(I8:I12) -> 86.36 | J13: =SUM(J8:J12) -> 550 | K13: =SUM(K8:K12) -> 18.75 | L13: =SUM(L8:L12) -> 16.12 | M13: =SUM(M8:M12) -> 91.58 | N13: =SUM(N8:N12) -> 635 | O13: =SUM(O8:O12) -> 0.303 | P13: =SUM(P8:P12) -> 2.257 | ... S13: =SUM(S8:S12) -> 3.32
D14: Обед
B15: 1.27 | D15: Помидоры свежие порционные | I15: 14 | J15: 100 | K15: 0.6 | L15: 0 | M15: 4.2 | N15: 19 | O15: 0.06 | P15: 25 | Q15: 14 | R15: 20 | S15: 1.4 | T15: =SUM(Q15:S15) -> 35.4
B16: 1.67.1ш | D16: Рассольник "Ленинградский" на бульоне из птицы | I16: 20 | J16: 255 | K16: 16.5 | L16: 11.3 | M16: 17.6 | N16: 243 | O16: 0.15 | P16: 17.5 | Q16: 33.75 | R16: 42.7 | S16: 3.25
B17: 2.121.1 Ш | D17: Рагу из птицы | I17: 48 | J17: 180 | K17: 10.8 | L17: 14.4 | M17: 15.3 | N17: 235.8 | O17: 0.12 | P17: 8.78 | Q17: 34.2 | R17: 37.8 | S17: 1.62 | T17: =SUM(J17:S17) -> 538.82
B18: 7.15 | D18: Компот из смеси сухофруктов | I18: 9 | J18: 200 | K18: 0.5 | L18: 0.1 | M18: 12.5 | N18: 121 | O18: 0.07 | P18: 0.29 | Q18: 14.62 | R18: 8.5 | S18: 0.92
B19: 6.23 | D19: Хлеб пшеничный с витаминно-минеральной смесью « Валетек-8» | I19: 3.36 | J19: 40 | K19: 3.36 | L19: 0.36 | M19: 28 | N19: 100 | O19: 0.08 | P19: 0.08 | Q19: 15 | R19: 15.28 | S19: 1.28 | T19: =SUM(Q19:S19) -> 31.56
B20: 6.24 | D20: Хлеб ржаной | I20: 3.74 | J20: 40 | K20: 3.25 | L20: 0.7 | M20: 29.33 | N20: 114.7 | O20: 0.03 | P20: 1.33 | Q20: 13.86 | R20: 15.4 | S20: 2.8 | T20: =SUM(Q20:S20) -> 32.06
D21: Всего в | E21: Обед | I21: =SUM(I15:I20) -> 98.1 | J21: =SUM(J15:J20) -> 815 | K21: =SUM(K15:K20) -> 35.01 | L21: =SUM(L15:L20) -> 26.86 | M21: =SUM(M15:M20) -> 106.93 | N21: =SUM(N15:N20) -> 833.5 | O21: =SUM(O15:O20) -> 0.51 | P21: =SUM(P15:P20) -> 52.98 | ... S21: =SUM(S15:S20) -> 11.27
D22: Всего в | F22: день | K22: =K13+K21 -> 53.76 | L22: =L13+L21 -> 42.98 | M22: =M13+M21 -> 198.51 | N22: =N13+N21 -> 1468.5 | O22: =O13+O21 -> 0.813 | P22: =P13+P21 -> 55.237 | Q22: =Q13+Q21 -> 209.99 | R22: =R13+R21 -> 216.36 | S22: =S13+S21 -> 14.59

Sheet 6
C2: 2-ая неделя/Понедельник | D2: г
B4: № рец. | D4: Приём пищи, наименование блюда | I4: ЦЕНА | J4: Масса порции | K4: Пищевые вещества (г) | N4: ККАЛ | O4: Витамины (мг) | Q4: Минеральные вещества (мг)
K5: Б | L5: Ж | M5: У | O5: B1 | P5: С | Q5: Ca | R5: Mg | S5: Fe
B6: 1 | D6: 2 | J6: 3 | K6: 4 | L6: 5 | M6: 6 | N6: 7 | O6: 8 | P6: 9 | Q6: 10 | R6: 11 | S6: 12
D7: Завтрак
B8: 2.173.1 Ш | D8: Чикенбол с соусом | I8: 42 | J8: 100 | K8: 15 | L8: 12.2 | M8: 8.33 | N8: 203.3 | O8: 203.3 | P8: 0.2 | Q8: 32.8 | R8: 14.8 | S8: 1.11 | T8: 1.11
B9: 4.7 | D9: Каша гречневая рассыпчатая | I9: 16 | J9: 180 | K9: 8.1 | L9: 5.2 | M9: 33.2 | N9: 213 | O9: 0.3 | P9: 0 | Q9: 16.8 | R9: 159.6 | S9: 5.52
B10: 1.1 | D10: Кондитерское изделие | I10: 19 | J10: 30 | K10: 1.64 | L10: 2.24 | M10: 3.6 | N10: 125 | O10: 0.16 | P10: 2.16 | Q10: 24 | R10: 32.5 | S10: 0.78 | T10: =SUM(S10) -> 0.78
B11: 7.5 | D11: Чай с сахаром | I11: 6 | J11: 200 | K11: 0.1 | L11: 0.02 | M11: 9.1 | N11: 35 | O11: 0 | P11: 0 | Q11: 0.26 | R11: 0 | S11: 0
B12: 6.23 | D12: Хлеб пшеничный с витаминно-минеральной смесью « Валетек-8» | I12: 3.36 | J12: 40 | K12: 3.36 | L12: 0.36 | M12: 28 | N12: 100 | O12: 0.08 | P12: 0.08 | Q12: 15 | R12: 15.28 | S12: 1.28
D13: Всего в завтрак | I13: =SUM(I8:I12) -> 86.36 | J13: =SUM(J8:J12) -> 550 | K13: =SUM(K8:K12) -> 28.2 | L13: =SUM(L8:L12) -> 20.02 | M13: =SUM(M8:M12) -> 82.23 | N13: =SUM(N8:N12) -> 676.3 | O13: =SUM(O8:O12) -> 203.84 | P13: =SUM(P8:P12) -> 2.44 | ... S13: =SUM(S8:S12) -> 8.69
D14: Обед
B15: 1.12 | D15: Салат из белокочанной капусты с морковью | I15: 14 | J15: 100 | K15: 3 | L15: 10 | M15: 10 | N15: 145 | O15: 0.03 | P15: 21.65 | Q15: 65.94 | R15: 25.91 | S15: 0.75
B16: 1.65.1ш | D16: "Ыумас аши" (затируха) на бульоне из птицы | I16: 19 | J16: 250 | K16: 4 | L16: 7 | M16: 20 | N16: 159 | O16: 0.5 | P16: 3 | Q16: 62.5 | R16: 32.5 | S16: 2.25
B17: 3.20 | D17: Плов из говядины | I17: 50 | J17: 180 | K17: 12.9 | L17: 16 | M17: 38.9 | N17: 350 | O17: 0.07 | P17: 1.35 | Q17: 14 | R17: 41.7 | S17: 1.95 | T17: =SUM(J17:S17) -> 656.87
B18: 7.7 | D18: Чай с сахаром и лимоном | I18: 8 | J18: 200 | K18: 0.1 | L18: 0 | M18: 9.3 | N18: 37 | O18: 0 | P18: 1.12 | Q18: 2.73 | R18: 0.73 | S18: 0.06
B19: 6.23 | D19: Хлеб пшеничный с витаминно-минеральной смесью « Валетек-8» | I19: 3.36 | J19: 40 | K19: 3.36 | L19: 0.36 | M19: 28 | N19: 100 | O19: 0.08 | P19: 0.08 | Q19: 15 | R19: 15.28 | S19: 1.28 | T19: =SUM(J19:S19) -> 203.44
B20: 6.24 | D20: Хлеб ржаной | I20: 3.74 | J20: 40 | K20: 3.25 | L20: 0.7 | M20: 29.33 | N20: 114.7 | O20: 0.03 | P20: 1.33 | Q20: 13.86 | R20: 15.4 | S20: 2.8 | T20: =SUM(J20:S20) -> 221.4
D21: Всего в обед | I21: =SUM(I15:I20) -> 98.1 | J21: =SUM(J15:J20) -> 810 | K21: =SUM(K15:K20) -> 26.61 | L21: =SUM(L15:L20) -> 34.06 | M21: =SUM(M15:M20) -> 135.53 | N21: =SUM(N15:N20) -> 905.7 | O21: =SUM(O15:O20) -> 0.71 | P21: =SUM(P15:P20) -> 28.53 | ... S21: =SUM(S15:S20) -> 9.09
D22: Всего в день | K22: =K13+K21 -> 54.81 | L22: =L13+L21 -> 54.08 | M22: =M13+M21 -> 217.76 | N22: =N13+N21 -> 1582 | O22: =O13+O21 -> 204.55 | P22: =P13+P21 -> 30.97 | Q22: =Q13+Q21 -> 262.89 | R22: =R13+R21 -> 353.7 | S22: =S13+S21 -> 17.78

Sheet 7
Q2: 2-ая неделя/Вторник
B4: № рец. | D4: Приём пищи, наименование блюда | I4: ЦЕНА | J4: Масса порции | K4: Пищевые вещества (г) | N4: ККАЛ | O4: Витамины (мг) | Q4: Минеральные вещества (мг)
K5: Б | L5: Ж | M5: У | O5: B1 | P5: С | Q5: Ca | R5: Mg | S5: Fe
B6: 1 | D6: 2 | J6: 3 | K6: 4 | L6: 5 | M6: 6 | N6: 7 | O6: 8 | P6: 9 | Q6: 10 | R6: 11 | S6: 12
D7: Завтрак
B8: 4.13.2 Ш | D8: Вермишель отварная с тертым сыром | I8: 44 | J8: 180 | K8: 13.3 | L8: 5.5 | M8: 38.5 | N8: 351.6 | O8: 0.08 | P8: 0.18 | Q8: 270 | R8: 23.1 | S8: 1.1
B9: 1.27 | D9: Фрукты свежие | I9: 28 | J9: 130 | K9: 0.52 | L9: 0.52 | M9: 12.74 | N9: 61.4 | O9: 0.045 | P9: 9.17 | Q9: 7.34 | R9: 38.54 | S9: 1.6
B10: 7.11 | D10: Чай с молоком и сахаром | I10: 10 | J10: 200 | K10: 1 | L10: 2 | M10: 12 | N10: 70 | O10: 0.02 | P10: 0.65 | Q10: 60.3 | R10: 7 | S10: 0.06
B11: 6.23 | D11: Хлеб пшеничный с витаминно-минеральной смесью « Валетек-8» | I11: 4.36 | J11: 50 | K11: 4.2 | L11: 0.45 | M11: 35 | N11: 125 | O11: 0.1 | P11: 1 | Q11: 18.8 | R11: 19.1 | S11: 1.6
D12: Всего в завтрак | I12: =SUM(I8:I11) -> 86.36 | J12: =SUM(J8:J11) -> 560 | K12: =SUM(K8:K11) -> 19.02 | L12: =SUM(L8:L11) -> 8.47 | M12: =SUM(M8:M11) -> 98.24 | N12: =SUM(N8:N11) -> 608 | O12: =SUM(O8:O11) -> 0.245 | P12: =SUM(P8:P11) -> 11 | ... S12: =SUM(S8:S11) -> 4.36
G13: Обед
B14: 1.69.1Ш | D14: "Борщ из свежей капусты с картофелем" на бульоне из птицы | I14: 25 | J14: 255 | K14: 17.6 | L14: 11.3 | M14: 17.6 | N14: 248 | O14: 0.11 | P14: 31.6 | Q14: 58.3 | R14: 50.6 | S14: 3.92
B15: 2.180.1ш | D15: Тефтели рыбные с соусом | I15: 35 | J15: 100 | K15: 7.4 | L15: 9.1 | M15: 9.6 | N15: 150 | O15: 0.083 | P15: 2.35 | Q15: 23.62 | R15: 16.44 | S15: 0.56
B16: 4.18 | D16: Картофель запеченный | I16: 23 | J16: 180 | K16: 4.32 | L16: 9.36 | M16: 18.7 | N16: 176.6 | O16: 0.07 | P16: 1.02 | Q16: 10.69 | R16: 23.8 | S16: 1.8
B17: 3.2.1ш | D17: Напиток витаминизированный | I17: 8 | J17: 200 | K17: 0.8 | L17: 0.1 | M17: 16 | N17: 68.1 | O17: 0.01 | P17: 1.6 | Q17: 6.03 | R17: 3.13 | S17: 24
B18: 6.23 | D18: Хлеб пшеничный с витаминно-минеральной смесью « Валетек-8» | I18: 3.36 | J18: 40 | K18: 3.36 | L18: 0.36 | M18: 28 | N18: 100 | O18: 0.08 | P18: 0.08 | Q18: 15 | R18: 15.28 | S18: 1.28 | T18: =SUM(J18:S18) -> 203.44
B19: 6.24 | D19: Хлеб ржаной | I19: 3.74 | J19: 40 | K19: 3.25 | L19: 0.7 | M19: 29.33 | N19: 114.7 | O19: 0.03 | P19: 1.33 | Q19: 13.86 | R19: 15.4 | S19: 2.8 | T19: =SUM(J19:S19) -> 221.4
D20: Всего в обед | I20: =SUM(I14:I19) -> 98.1 | J20: =SUM(J14:J19) -> 815 | K20: =SUM(K14:K19) -> 36.73 | L20: =SUM(L14:L19) -> 30.92 | M20: =SUM(M14:M19) -> 119.23 | N20: =SUM(N14:N19) -> 857.4 | O20: =SUM(O14:O19) -> 0.383 | P20: =SUM(P14:P19) -> 37.98 | ... S20: =SUM(S14:S19) -> 34.36
D21: Всего в день | K21: =K12+K20 -> 55.75 | L21: =L12+L20 -> 39.39 | M21: =M12+M20 -> 217.47 | N21: =N12+N20 -> 1465.4 | O21: =O12+O20 -> 0.628 | P21: =P12+P20 -> 48.98 | Q21: =Q12+Q20 -> 483.94 | R21: =R12+R20 -> 212.39 | S21: =S12+S20 -> 38.72

Sheet 8
C2: 2-ая неделя/Среда | D2: г
B4: № рец. | D4: Приём пищи, наименование блюда | I4: ЦЕНА | J4: Масса порции | K4: Пищевые вещества (г) | N4: ККАЛ | O4: Витамины (мг) | Q4: Минеральные вещества (мг)
K5: Б | L5: Ж | M5: У | O5: B1 | P5: С | Q5: Ca | R5: Mg | S5: Fe
B6: 1 | D6: 2 | J6: 3 | K6: 4 | L6: 5 | M6: 6 | N6: 7 | O6: 8 | P6: 9 | Q6: 10 | R6: 11 | S6: 12
D7: Завтрак
B8: 9.4.3ш | D8: Каша молочная жидкая "Артек" | I8: 52 | J8: 210 | K8: 7.2 | L8: 8.8 | M8: 34.1 | N8: 246 | O8: 0.18 | P8: 0.5 | Q8: 126 | R8: 44 | S8: 1.1
B9: 6.69.1Ш | D9: Булочка творожная | I9: 22 | J9: 90 | K9: 5.8 | L9: 5.04 | M9: 35.6 | N9: 228.8 | O9: 0.13 | P9: 0 | Q9: 17.25 | R9: 24.75 | S9: 1.13
B10: 7.7 | D10: Чай с сахаром и лимоном | I10: 8 | J10: 200 | K10: 0.1 | L10: 0 | M10: 9.3 | N10: 37 | O10: 0 | P10: 1.12 | Q10: 2.73 | R10: 0.73 | S10: 0.06
B11: 6.23 | D11: Хлеб пшеничный с витаминно-минеральной смесью « Валетек-8» | I11: 4.36 | J11: 50 | K11: 4.2 | L11: 0.45 | M11: 35 | N11: 125 | O11: 0.1 | P11: 1 | Q11: 18.8 | R11: 19.1 | S11: 1.6
D12: Всего в завтрак | I12: =SUM(I8:I11) -> 86.36 | J12: =SUM(J8:J11) -> 550 | K12: =SUM(K8:K11) -> 17.3 | L12: =SUM(L8:L11) -> 14.29 | M12: =SUM(M8:M11) -> 114 | N12: =SUM(N8:N11) -> 636.8 | O12: =SUM(O8:O11) -> 0.41 | P12: =SUM(P8:P11) -> 2.62 | ... S12: =SUM(S8:S11) -> 3.89
D13: Обед
B14: 2.6 | D14: Суп картофельный с бобовыми с гренками | I14: 23 | J14: 265 | K14: 18.8 | L14: 10 | M14: 20 | N14: 246 | O14: 0.27 | P14: 12 | Q14: 44.2 | R14: 53.8 | S14: 4
B15: 9.18.1ш | D15: Каша ячневая рассыпчатая | I15: 18 | J15: 180 | K15: 5.8 | L15: 4.8 | M15: 36.3 | N15: 215 | O15: 0.13 | P15: 0 | Q15: 46.17 | R15: 27.9 | S15: 1.03
B16: ттк №23 | D16: Котлеты рубленные из птицы с соусом | I16: 40 | J16: 100 | K16: 13.3 | L16: 19.9 | M16: 11.2 | N16: 250 | O16: 0.16 | P16: 0.26 | Q16: 17.4 | R16: 18 | S16: 1.4 | T16: =SUM(J16:S16) -> 431.62
B17: 3.8.1ш | D17: Кисель витаминизированный "Киселечек" | I17: 10 | J17: 200 | K17: 0.002 | L17: 0.002 | M17: 14 | N17: 62 | O17: 0.024 | P17: 1.6 | Q17: 0 | R17: 0 | S17: 0
B18: 6.23 | D18: Хлеб пшеничный с витаминно-минеральной смесью « Валетек-8» | I18: 3.36 | J18: 40 | K18: 3.36 | L18: 0.36 | M18: 28 | N18: 100 | O18: 0.08 | P18: 0.08 | Q18: 15 | R18: 15.28 | S18: 1.28 | T18: =SUM(J18:S18) -> 203.44
B19: 6.24 | D19: Хлеб ржаной | I19: 3.74 | J19: 40 | K19: 3.25 | L19: 0.7 | M19: 29.33 | N19: 114.7 | O19: 0.03 | P19: 1.33 | Q19: 13.86 | R19: 15.4 | S19: 2.8 | T19: =SUM(J19:S19) -> 221.4
D20: Всего в обед | I20: =SUM(I14:I19) -> 98.1 | J20: =SUM(J14:J19) -> 825 | K20: =SUM(K14:K19) -> 44.512 | L20: =SUM(L14:L19) -> 35.762 | M20: =SUM(M14:M19) -> 138.83 | N20: =SUM(N14:N19) -> 987.7 | O20: =SUM(O14:O19) -> 0.694 | P20: =SUM(P14:P19) -> 15.27 | ... S20: =SUM(S14:S19) -> 10.51
D21: Всего в день | K21: =K12+K20 -> 61.812 | L21: =L12+L20 -> 50.052 | M21: =M12+M20 -> 252.83 | N21: =N12+N20 -> 1624.5 | O21: =O12+O20 -> 1.104 | P21: =P12+P20 -> 17.89 | Q21: =Q12+Q20 -> 301.41 | R21: =R12+R20 -> 218.96 | S21: =S12+S20 -> 14.4

Sheet 9
C2: 2-ая неделя/Четверг | D2: г
B4: № рец. | D4: Приём пищи, наименование блюда | I4: ЦЕНА | J4: Масса порции | K4: Пищевые вещества (г) | N4: ККАЛ | O4: Витамины (мг) | Q4: Минеральные вещества (мг)
K5: Б | L5: Ж | M5: У | O5: B1 | P5: С | Q5: Ca | R5: Mg | S5: Fe
B6: 1 | D6: 2 | J6: 3 | K6: 4 | L6: 5 | M6: 6 | N6: 7 | O6: 8 | P6: 9 | Q6: 10 | R6: 11 | S6: 12
D7: Завтрак
B8: 9.8.1ш | D8: Каша молочная "Дружба" | I8: 43 | J8: 210 | K8: 6.2 | L8: 8.1 | M8: 33.4 | N8: 232 | O8: 0.11 | P8: 0.53 | Q8: 126 | R8: 36.6 | S8: 0.8
B9: 8 | D9: Йогурт | I9: 28 | J9: 100 | K9: 4.1 | L9: 3.2 | M9: 10 | N9: 98 | O9: 0.03 | P9: 0.42 | Q9: 120 | R9: 15 | S9: 0.3
B10: 7.8 | D10: Кофейный напиток на молоке | I10: 12 | J10: 200 | K10: 3.2 | L10: 2.8 | M10: 18.5 | N10: 109 | O10: 0.03 | P10: 0.52 | Q10: 48.8 | R10: 24 | S10: 1.1
B11: 6.23 | D11: Хлеб пшеничный с витаминно-минеральной смесью « Валетек-8» | I11: 3.36 | J11: 40 | K11: 3.36 | L11: 0.36 | M11: 28 | N11: 100 | O11: 0.08 | P11: 0.08 | Q11: 15 | R11: 15.28 | S11: 1.28
D12: Всего в завтрак | I12: =SUM(I8:I11) -> 86.36 | J12: =SUM(J8:J11) -> 550 | K12: =SUM(K8:K11) -> 16.86 | L12: =SUM(L8:L11) -> 14.46 | M12: =SUM(M8:M11) -> 89.9 | N12: =SUM(N8:N11) -> 539 | O12: =SUM(O8:O11) -> 0.25 | P12: =SUM(P8:P11) -> 1.55 | ... S12: =SUM(S8:S11) -> 3.48
D13: Обед
B14: 1.66.1Ш | D14: Суп-лапша домашняя с картофелем на бульоне из птицы | I14: 16 | J14: 250 | K14: 20 | L14: 12.5 | M14: 15 | N14: 250 | O14: 0.02 | P14: 2.25 | Q14: 27.8 | R14: 34 | S14: 4 | T14: =SUM(J14:S14) -> 615.57
B15: 3.13 | D15: Зразы "Школьные" | I15: 47 | J15: 100 | K15: 9.5 | L15: 12.4 | M15: 9.1 | N15: 188 | O15: 0.075 | P15: 0.29 | Q15: 29.4 | R15: 18.7 | S15: 1 | T15: =SUM(J15:S15) -> 368.465
B16: 4.7 | D16: Каша гречневая рассыпчатая | I16: 18 | J16: 180 | K16: 8.1 | L16: 5.2 | M16: 33.2 | N16: 213 | O16: 0.3 | P16: 0 | Q16: 16.8 | R16: 159.6 | S16: 5.52
B17: 3.1.1ш | D17: Чай "Витаминизированный" | I17: 10 | J17: 200 | K17: 0.5 | L17: 0.2 | M17: 10.2 | N17: 83 | O17: 0.01 | P17: 60 | Q17: 11.09 | R17: 2.96 | S17: 0.57
B18: 6.23 | D18: Хлеб пшеничный с витаминно-минеральной смесью « Валетек-8» | I18: 3.36 | J18: 40 | K18: 3.36 | L18: 0.36 | M18: 28 | N18: 100 | O18: 0.08 | P18: 0.08 | Q18: 15 | R18: 15.28 | S18: 1.28 | T18: =SUM(J18:S18) -> 203.44
B19: 6.24 | D19: Хлеб ржаной | I19: 3.74 | J19: 40 | K19: 3.25 | L19: 0.7 | M19: 29.33 | N19: 114.7 | O19: 0.03 | P19: 1.33 | Q19: 13.86 | R19: 15.4 | S19: 2.8 | T19: =SUM(J19:S19) -> 221.4
D20: Всего в обед | I20: =SUM(I14:I19) -> 98.1 | J20: =SUM(J14:J19) -> 810 | K20: =SUM(K14:K19) -> 44.71 | L20: =SUM(L14:L19) -> 31.36 | M20: =SUM(M14:M19) -> 124.83 | N20: =SUM(N14:N19) -> 948.7 | O20: =SUM(O14:O19) -> 0.515 | P20: =SUM(P14:P19) -> 63.95 | ... S20: =SUM(S14:S19) -> 15.17
D21: Всего в день | K21: =K12+K20 -> 61.57 | L21: =L12+L20 -> 45.82 | M21: =M12+M20 -> 214.73 | N21: =N12+N20 -> 1487.7 | O21: =O12+O20 -> 0.765 | P21: =P12+P20 -> 65.5 | Q21: =Q12+Q20 -> 423.75 | R21: =R12+R20 -> 336.82 | S21: =S12+S20 -> 18.65

Sheet 10
C2: 2-ая неделя/Пятница | D2: г
B4: № рец. | D4: Приём пищи, наименование блюда | I4: ЦЕНА | J4: Масса порции | K4: Пищевые вещества (г) | N4: ККАЛ | O4: Витамины (мг) | Q4: Минеральные вещества (мг)
K5: Б | L5: Ж | M5: У | O5: B1 | P5: С | Q5: Ca | R5: Mg | S5: Fe
B6: 1 | D6: 2 | J6: 3 | K6: 4 | L6: 5 | M6: 6 | N6: 7 | O6: 8 | P6: 9 | Q6: 10 | R6: 11 | S6: 12
D7: Завтрак
B8: 2.1.2 Ш | D8: Колбаски рубленные с соусом | I8: 43 | J8: 100 | K8: 10.6 | L8: 15.4 | M8: 6 | N8: 208 | O8: 0.06 | P8: 0.68 | Q8: 16.8 | R8: 16.6 | S8: 0.92
B9: 4.9 | D9: Пюре картофельное | I9: 20 | J9: 180 | K9: 3.72 | L9: 6 | M9: 24 | N9: 165.6 | O9: 0.11 | P9: 12.44 | Q9: 42.7 | R9: 34 | S9: 1.23
B10: 1.1 | D10: Кондитерское изделие | I10: 14 | J10: 30 | K10: 1.64 | L10: 2.24 | M10: 3.6 | N10: 125 | O10: 0.16 | P10: 2.16 | Q10: 24 | R10: 32.5 | S10: 0.78 | T10: =SUM(Q10:S10) -> 57.28
B11: 7.5 | D11: Чай с сахаром | I11: 6 | J11: 200 | K11: 0.1 | L11: 0.02 | M11: 9.1 | N11: 35 | O11: 0 | P11: 0 | Q11: 0.26 | R11: 0 | S11: 0
B12: 6.23 | D12: Хлеб пшеничный с витаминно-минеральной смесью « Валетек-8» | I12: 3.36 | J12: 40 | K12: 3.36 | L12: 0.36 | M12: 28 | N12: 100 | O12: 0.08 | P12: 0.08 | Q12: 15 | R12: 15.28 | S12: 1.28
D13: Всего в завтрак | I13: =SUM(I8:I12) -> 86.36 | J13: =SUM(J8:J12) -> 550 | K13: =SUM(K8:K12) -> 19.42 | L13: =SUM(L8:L12) -> 24.02 | M13: =SUM(M8:M12) -> 70.7 | N13: =SUM(N8:N12) -> 633.6 | O13: =SUM(O8:O12) -> 0.41 | P13: =SUM(P8:P12) -> 15.36 | ... R13: =SUM(R8:R12) -> 98.38 | S13: =SUM(S8:T12) -> 61.49
D14: Обед
B15: 1.28 | D15: Огурцы свежие порционные | I15: 16 | J15: 100 | K15: 0.8 | L15: 0 | M15: 3 | N15: 33 | O15: 0.1 | P15: 5 | Q15: 46 | R15: 36 | S15: 1.4 | T15: =SUM(J15:S15) -> 225.3
B16: 1.71.1Ш | D16: Свекольник на бульоне из птицы | I16: 23 | J16: 255 | K16: 2.25 | L16: 5.1 | M16: 14.8 | N16: 118.7 | O16: 0.05 | P16: 4.98 | Q16: 33.47 | R16: 27.9 | S16: 1.4
B17: 3.15 (Ш) | D17: Плов из птицы | I17: 45 | J17: 180 | K17: 14 | L17: 18 | M17: 38.8 | N17: 370.8 | O17: 0.11 | P17: 4.25 | Q17: 20.16 | R17: 44.64 | S17: 1.47 | T17: 665.63
B18: 7.4 | D18: Напиток "Цитрусовый" | I18: 7 | J18: 200 | K18: 0.2 | L18: 0 | M18: 11.8 | N18: 77 | O18: 0.01 | P18: 5.28 | Q18: 7.11 | R18: 2.49 | S18: 0.11
B19: 6.23 | D19: Хлеб пшеничный с витаминно-минеральной смесью « Валетек-8» | I19: 3.36 | J19: 40 | K19: 3.36 | L19: 0.36 | M19: 28 | N19: 100 | O19: 0.08 | P19: 0.08 | Q19: 15 | R19: 15.28 | S19: 1.28 | T19: =SUM(J19:S19) -> 203.44
B20: 6.24 | D20: Хлеб ржаной | I20: 3.74 | J20: 40 | K20: 3.25 | L20: 0.7 | M20: 29.33 | N20: 114.7 | O20: 0.03 | P20: 1.33 | Q20: 13.86 | R20: 15.4 | S20: 2.8 | T20: =SUM(J20:S20) -> 221.4
D21: Всего в обед | I21: =SUM(I15:I20) -> 98.1 | J21: =SUM(J15:J20) -> 815 | K21: =SUM(K15:K20) -> 23.86 | L21: =SUM(L15:L20) -> 24.16 | M21: =SUM(M15:M20) -> 125.73 | N21: =SUM(N15:N20) -> 814.2 | O21: =SUM(O15:O20) -> 0.38 | P21: =SUM(P15:P20) -> 20.92 | ... S21: =SUM(S15:S20) -> 8.46
D22: Всего в день | K22: =K13+K21 -> 43.28 | L22: =L13+L21 -> 48.18 | M22: =M13+M21 -> 196.43 | N22: =N13+N21 -> 1447.8 | O22: =O13+O21 -> 0.79 | P22: =P13+P21 -> 36.28 | Q22: =Q13+Q21 -> 234.36 | R22: =R13+R21 -> 240.09 | S22: =S13+S21 -> 69.95
D23: Итого | K23: ='1'!R34+'2'!K22+'3'!K21+'4'!K21+'5'!K22+'6'!K22+'7'!K21+'8'!K21+'9'!K21+'10'!K22 -> 557.482 | L23: ='1'!S34+'2'!L22+'3'!L21+'4'!L21+'5'!L22+'6'!L22+'7'!L21+'8'!L21+'9'!L21+'10'!L22 -> 464.322 | M23: ='1'!T34+'2'!M22+'3'!M21+'4'!M21+'5'!M22+'6'!M22+'7'!M21+'8'!M21+'9'!M21+'10'!M22 -> 2188.78 | N23: ='1'!U34+'2'!N22+'3'!N21+'4'!N21+'5'!N22+'6'!N22+'7'!N21+'8'!N21+'9'!N21+'10'!N22 -> 14980 | O23: ='1'!V34+'2'!O22+'3'!O21+'4'!O21+'5'!O22+'6'!O22+'7'!O21+'8'!O21+'9'!O21+'10'!O22 -> 211.562 | P23: ='1'!W34+'2'!P22+'3'!P21+'4'!P21+'5'!P22+'6'!P22+'7'!P21+'8'!P21+'9'!P21+'10'!P22 -> 424.607 | Q23: ='1'!X34+'2'!Q22+'3'!Q21+'4'!Q21+'5'!Q22+'6'!Q22+'7'!Q21+'8'!Q21+'9'!Q21+'10'!Q22 -> 3143.11 | R23: ='1'!Y34+'2'!R22+'3'!R21+'4'!R21+'5'!R22+'6'!R22+'7'!R21+'8'!R21+'9'!R21+'10'!R22 -> 2184.84 | S23: ='1'!Z34+'2'!S22+'3'!S21+'4'!S21+'5'!S22+'6'!S22+'7'!S21+'8'!S21+'9'!S21+'10'!S22 -> 214.06 | T23: ='1'!AA34+'2'!T22+'3'!T21+'5'!T22+'4'!T21+'6'!T22+'7'!T21+'8'!T21+'9'!T21+'10'!T22 -> 154.38
D24: Среднее за период | K24: =K23/10 -> 55.7482 | L24: =L23/10 -> 46.4322 | M24: =M23/10 -> 218.878 | N24: =N23/10 -> 1498 | O24: =O23/10 -> 21.1562 | P24: =P23/10 -> 42.4607 | Q24: =Q23/10 -> 314.311 | R24: =R23/10 -> 218.484 | S24: =S23/10 -> 21.406
C26: Ответственные лица за разработку меню:
C27: Технолог | H27: Меметалиева В.Р.
C28: Управляющий подразделением | H28: Кулембетова Н.А.
C29: "Школьные столовые"
C30: Бухгалтер | H30: Ахатова Э.Г.
C32: Согласовано:
C33: Начальник ПЭО | H33: Султанова Л.Г.
C35: Заместитель директора | H35: Афанасьев С.С.
C36: по производству
